BEGIN:VCALENDAR
VERSION:2.0
PRODID:-//Indigenous Veld Goats - ECPv6.15.20//NONSGML v1.0//EN
CALSCALE:GREGORIAN
METHOD:PUBLISH
X-ORIGINAL-URL:https://indigenousveldgoats.co.za
X-WR-CALDESC:Events for Indigenous Veld Goats
REFRESH-INTERVAL;VALUE=DURATION:PT1H
X-Robots-Tag:noindex
X-PUBLISHED-TTL:PT1H
BEGIN:VTIMEZONE
TZID:Africa/Harare
BEGIN:STANDARD
TZOFFSETFROM:+0200
TZOFFSETTO:+0200
TZNAME:CAT
DTSTART:20240101T000000
END:STANDARD
END:VTIMEZONE
BEGIN:VEVENT
DTSTART;VALUE=DATE:20251016
DTEND;VALUE=DATE:20251019
DTSTAMP:20260422T105602
CREATED:20250409T105027Z
LAST-MODIFIED:20250409T105027Z
UID:675-1760572800-1760831999@indigenousveldgoats.co.za
SUMMARY:Nampo Alfa
DESCRIPTION:
URL:https://indigenousveldgoats.co.za/event/nampo-alfa/
LOCATION:Nampo Bothaville\, R30\, Bothaville\, 9660\, Bothaville\, South Africa
ATTACH;FMTTYPE=image/png:https://indigenousveldgoats.co.za/wp-content/uploads/2025/04/NAMPO-ALFA-logo.png
END:VEVENT
END:VCALENDAR