BEGIN:VCALENDAR
VERSION:2.0
PRODID:-//Indigenous Veld Goats - ECPv6.15.20//NONSGML v1.0//EN
CALSCALE:GREGORIAN
METHOD:PUBLISH
X-ORIGINAL-URL:https://indigenousveldgoats.co.za
X-WR-CALDESC:Events for Indigenous Veld Goats
REFRESH-INTERVAL;VALUE=DURATION:PT1H
X-Robots-Tag:noindex
X-PUBLISHED-TTL:PT1H
BEGIN:VTIMEZONE
TZID:Africa/Harare
BEGIN:STANDARD
TZOFFSETFROM:+0200
TZOFFSETTO:+0200
TZNAME:CAT
DTSTART:20250101T000000
END:STANDARD
END:VTIMEZONE
BEGIN:VEVENT
DTSTART;TZID=Africa/Harare:20260512T080000
DTEND;TZID=Africa/Harare:20260515T170000
DTSTAMP:20260420T165144
CREATED:20251125T083032Z
LAST-MODIFIED:20251125T083032Z
UID:904-1778572800-1778864400@indigenousveldgoats.co.za
SUMMARY:Nampo Bothaville
DESCRIPTION:
URL:https://indigenousveldgoats.co.za/event/nampo-bothaville-2/
LOCATION:Nampo Bothaville\, R30\, Bothaville\, 9660\, Bothaville\, South Africa
END:VEVENT
BEGIN:VEVENT
DTSTART;TZID=Africa/Harare:20260710T170000
DTEND;TZID=Africa/Harare:20260710T170000
DTSTAMP:20260420T165144
CREATED:20251125T082811Z
LAST-MODIFIED:20251125T082811Z
UID:898-1783702800-1783702800@indigenousveldgoats.co.za
SUMMARY:Livestock Carnival - Fancy Face Edition
DESCRIPTION:
URL:https://indigenousveldgoats.co.za/event/livestock-carnival-fancy-face-edition/
LOCATION:Fire and Wine\, Fire and Wine Arena\, Plot 29\, Bokmakierrie Steet\, Mooiplaats\, Pretoria East\, 0020\, South Africa
END:VEVENT
BEGIN:VEVENT
DTSTART;TZID=Africa/Harare:20260806T080000
DTEND;TZID=Africa/Harare:20260808T170000
DTSTAMP:20260420T165144
CREATED:20251125T083102Z
LAST-MODIFIED:20251125T083102Z
UID:906-1786003200-1786208400@indigenousveldgoats.co.za
SUMMARY:Kragdag
DESCRIPTION:
URL:https://indigenousveldgoats.co.za/event/kragdag-2/
LOCATION:Kragdag\, Diamantvallei Landgoed\, Rayton\, South Africa
END:VEVENT
BEGIN:VEVENT
DTSTART;TZID=Africa/Harare:20260905T110000
DTEND;TZID=Africa/Harare:20260905T170000
DTSTAMP:20260420T165144
CREATED:20251125T082851Z
LAST-MODIFIED:20251125T082851Z
UID:900-1788606000-1788627600@indigenousveldgoats.co.za
SUMMARY:Heritage Auction
DESCRIPTION:
URL:https://indigenousveldgoats.co.za/event/heritage-auction-2/
LOCATION:Bloemfontein Showgrounds\, Generaal De Wet\, Bloemfontein\, 9301\, South Africa
END:VEVENT
BEGIN:VEVENT
DTSTART;TZID=Africa/Harare:20261127T080000
DTEND;TZID=Africa/Harare:20261127T170000
DTSTAMP:20260420T165144
CREATED:20251125T082930Z
LAST-MODIFIED:20251125T082930Z
UID:902-1795766400-1795798800@indigenousveldgoats.co.za
SUMMARY:Livestock Carnival - African Gems Edition
DESCRIPTION:
URL:https://indigenousveldgoats.co.za/event/livestock-carnival-african-gems-edition/
LOCATION:Fire and Wine\, Fire and Wine Arena\, Plot 29\, Bokmakierrie Steet\, Mooiplaats\, Pretoria East\, 0020\, South Africa
END:VEVENT
END:VCALENDAR