BEGIN:VCALENDAR
VERSION:2.0
PRODID:-//Indigenous Veld Goats - ECPv6.15.20//NONSGML v1.0//EN
CALSCALE:GREGORIAN
METHOD:PUBLISH
X-WR-CALNAME:Indigenous Veld Goats
X-ORIGINAL-URL:https://indigenousveldgoats.co.za
X-WR-CALDESC:Events for Indigenous Veld Goats
REFRESH-INTERVAL;VALUE=DURATION:PT1H
X-Robots-Tag:noindex
X-PUBLISHED-TTL:PT1H
BEGIN:VTIMEZONE
TZID:Africa/Harare
BEGIN:STANDARD
TZOFFSETFROM:+0200
TZOFFSETTO:+0200
TZNAME:CAT
DTSTART:20240101T000000
END:STANDARD
END:VTIMEZONE
BEGIN:VEVENT
DTSTART;VALUE=DATE:20251128
DTEND;VALUE=DATE:20251129
DTSTAMP:20260420T203838
CREATED:20250410T155459Z
LAST-MODIFIED:20251125T082114Z
UID:678-1764288000-1764374399@indigenousveldgoats.co.za
SUMMARY:Livestock Carnival Auction - African Gems Edition
DESCRIPTION:Flipbook:\nhttps://publuu.com/flip-book/54247/2225062\n\n\nOnline Catalogue:\nhttps://bid.cdpauctioneers.co.za/…/LIVESTOCK-CARNIVAL…
URL:https://indigenousveldgoats.co.za/event/african-gems-production-auction/
LOCATION:Fire and Wine\, Fire and Wine Arena\, Plot 29\, Bokmakierrie Steet\, Mooiplaats\, Pretoria East\, 0020\, South Africa
ATTACH;FMTTYPE=image/jpeg:https://indigenousveldgoats.co.za/wp-content/uploads/2025/04/571329479_1335013714986151_1358601566060927789_n.jpg
END:VEVENT
BEGIN:VEVENT
DTSTART;VALUE=DATE:20251016
DTEND;VALUE=DATE:20251019
DTSTAMP:20260420T203838
CREATED:20250409T105027Z
LAST-MODIFIED:20250409T105027Z
UID:675-1760572800-1760831999@indigenousveldgoats.co.za
SUMMARY:Nampo Alfa
DESCRIPTION:
URL:https://indigenousveldgoats.co.za/event/nampo-alfa/
LOCATION:Nampo Bothaville\, R30\, Bothaville\, 9660\, Bothaville\, South Africa
ATTACH;FMTTYPE=image/png:https://indigenousveldgoats.co.za/wp-content/uploads/2025/04/NAMPO-ALFA-logo.png
END:VEVENT
BEGIN:VEVENT
DTSTART;VALUE=DATE:20250910
DTEND;VALUE=DATE:20250914
DTSTAMP:20260420T203838
CREATED:20250409T104823Z
LAST-MODIFIED:20250811T134633Z
UID:671-1757462400-1757807999@indigenousveldgoats.co.za
SUMMARY:Nampo Cape
DESCRIPTION:
URL:https://indigenousveldgoats.co.za/event/nampo-cape/
LOCATION:Nampo Cape\, Bredasdorp Park\, Bredasdorp\, South Africa
ATTACH;FMTTYPE=image/jpeg:https://indigenousveldgoats.co.za/wp-content/uploads/2025/04/3-6-April-2025-1.jpg
END:VEVENT
BEGIN:VEVENT
DTSTART;VALUE=DATE:20250906
DTEND;VALUE=DATE:20250907
DTSTAMP:20260420T203838
CREATED:20250409T104159Z
LAST-MODIFIED:20250904T135615Z
UID:668-1757116800-1757203199@indigenousveldgoats.co.za
SUMMARY:Heritage Auction
DESCRIPTION:🚨 𝐈𝐕𝐆 𝐇𝐄𝐑𝐈𝐓𝐀𝐆𝐄 𝐀𝐔𝐂𝐓𝐈𝐎𝐍 🚨 \n🗓️ Saturday 6 September 2025\n🕚 11:00\n📍Bloemfontein Skowgrounds \n➡️ 4 Eco Types on Auction :\n▪️123 Cape Lobear\n▪️34 Cape Speckled\n▪️38 Nguni / Mbuzi\n▪️9 Kunene \nFlip book Catalog:\nhttps://online.fliphtml5.com/dvxwq/mlvv/ \n👉 Online and floor bidding \nSwiftVEE\nHave a look at what’s on offer and register for the auction: https://auctions.swiftvee.com/auctions/ivg-heritage-auction-KnVQ \nNew to the platform? Create an account here: https://auctions.swiftvee.com/users/sign_up \n☎️ Danie Pienaar (Bemarker) 082 893 6721\nAlexander 083 613 0556\nMarene 082 494 3895
URL:https://indigenousveldgoats.co.za/event/heritage-auction/
LOCATION:Bloemfontein Showgrounds\, Generaal De Wet\, Bloemfontein\, 9301\, South Africa
ATTACH;FMTTYPE=image/jpeg:https://indigenousveldgoats.co.za/wp-content/uploads/2025/04/WhatsApp-Image-2025-09-01-at-15.47.17_812a00f9.jpg
END:VEVENT
BEGIN:VEVENT
DTSTART;TZID=Africa/Harare:20250904T090000
DTEND;TZID=Africa/Harare:20250904T160000
DTSTAMP:20260420T203838
CREATED:20250811T133906Z
LAST-MODIFIED:20250811T133939Z
UID:847-1756976400-1757001600@indigenousveldgoats.co.za
SUMMARY:Skaapherders Kursus / Course
DESCRIPTION:
URL:https://indigenousveldgoats.co.za/event/skaapherders-kursus-course/
LOCATION:Bloemfontein Showgrounds\, Generaal De Wet\, Bloemfontein\, 9301\, South Africa
ATTACH;FMTTYPE=image/jpeg:https://indigenousveldgoats.co.za/wp-content/uploads/2025/08/1.jpg
END:VEVENT
BEGIN:VEVENT
DTSTART;VALUE=DATE:20250807
DTEND;VALUE=DATE:20250810
DTSTAMP:20260420T203838
CREATED:20250409T102931Z
LAST-MODIFIED:20250409T103318Z
UID:655-1754524800-1754783999@indigenousveldgoats.co.za
SUMMARY:Kragdag
DESCRIPTION:
URL:https://indigenousveldgoats.co.za/event/kragdag/
LOCATION:Kragdag\, Diamantvallei Landgoed\, Rayton\, South Africa
ATTACH;FMTTYPE=image/png:https://indigenousveldgoats.co.za/wp-content/uploads/2025/04/brand_nuwe_kragdag.png
ORGANIZER;CN="Kragdag":MAILTO:info@KragDag.co.za
END:VEVENT
BEGIN:VEVENT
DTSTART;TZID=Africa/Harare:20250711T170000
DTEND;TZID=Africa/Harare:20250711T190000
DTSTAMP:20260420T203838
CREATED:20250527T141839Z
LAST-MODIFIED:20250527T141839Z
UID:683-1752253200-1752260400@indigenousveldgoats.co.za
SUMMARY:IVG Livestock Carnival Auction
DESCRIPTION:
URL:https://indigenousveldgoats.co.za/event/ivg-livestock-carnival-auction/
LOCATION:Fire and Wine\, Fire and Wine Arena\, Plot 29\, Bokmakierrie Steet\, Mooiplaats\, Pretoria East\, 0020\, South Africa
ATTACH;FMTTYPE=image/jpeg:https://indigenousveldgoats.co.za/wp-content/uploads/2025/05/WhatsApp-Image-2025-05-21-at-11.29.40_dbd8a1c4.jpg
END:VEVENT
BEGIN:VEVENT
DTSTART;VALUE=DATE:20250513
DTEND;VALUE=DATE:20250517
DTSTAMP:20260420T203838
CREATED:20250409T102433Z
LAST-MODIFIED:20250409T104005Z
UID:646-1747094400-1747439999@indigenousveldgoats.co.za
SUMMARY:Nampo Bothaville
DESCRIPTION:
URL:https://indigenousveldgoats.co.za/event/nampo-bothaville/
LOCATION:Nampo Bothaville\, R30\, Bothaville\, 9660\, Bothaville\, South Africa
ATTACH;FMTTYPE=image/jpeg:https://indigenousveldgoats.co.za/wp-content/uploads/2025/04/NAMPO-2025_Exhibitors-1_04-04-2025.jpg
END:VEVENT
END:VCALENDAR